BEGIN:VCALENDAR
VERSION:2.0
METHOD:PUBLISH
PRODID:-//imacoda.com//SPD-Web-O-Mat//EN
CALSCALE:GREGORIAN
BEGIN:VTIMEZONE
TZID:Europe/Berlin
BEGIN:DAYLIGHT
TZOFFSETFROM:+0100
RRULE:FREQ=YEARLY;BYMONTH=3;BYDAY=-1SU
DTSTART:19810329T020000
TZNAME:MESZ
TZOFFSETTO:+0200
END:DAYLIGHT
BEGIN:STANDARD
TZOFFSETFROM:+0200
RRULE:FREQ=YEARLY;BYMONTH=10;BYDAY=-1SU
DTSTART:19961027T030000
TZNAME:MEZ
TZOFFSETTO:+0100
END:STANDARD
END:VTIMEZONE
BEGIN:VEVENT
UID:20260331T101432Z-00001184725-LULU@www.bayernspd.de
CREATED:20260331T101432Z
LAST-MODIFIED:20260331T101432Z
DTSTAMP:20260331T101432Z
TRANSP:TRANSPARENT
DTSTART;TZID=Europe/Berlin:20260910T193000
DTEND;TZID=Europe/Berlin:20260910T193000
SUMMARY:SPD Ortsvereinssitzung in der Lindleinsmühle
LOCATION:Pizzeria Alberto\, Frankenstr. 23\,97078 Würzburg
DESCRIPTION:Termin im Web (SPD Würzburg-Nord):\nhttps://spd-wuerzburg-no
 rd.de/termine/?id=1184725
END:VEVENT
END:VCALENDAR
